Package: ctc Version: 1.83.0 Command: chmod a+r ctc -R && F:\biocbuild\bbs-3.22-bioc\R\bin\R.exe CMD build --keep-empty-dirs --no-resave-data ctc StartedAt: 2025-07-24 18:28:15 -0400 (Thu, 24 Jul 2025) EndedAt: 2025-07-24 18:28:27 -0400 (Thu, 24 Jul 2025) EllapsedTime: 12.4 seconds RetCode: 0 Status: OK PackageFile: ctc_1.83.0.tar.gz PackageFileSize: 89.61 KiB