Package: csdR Version: 1.15.0 Command: /home/biocbuild/bbs-3.22-bioc/R/bin/R CMD check --install=check:csdR.install-out.txt --library=/home/biocbuild/bbs-3.22-bioc/R/site-library --timings csdR_1.15.0.tar.gz StartedAt: 2025-10-05 22:50:22 -0400 (Sun, 05 Oct 2025) EndedAt: 2025-10-05 22:55:30 -0400 (Sun, 05 Oct 2025) EllapsedTime: 308.3 seconds RetCode: 0 Status: OK CheckDir: csdR.Rcheck Warnings: 0