Package: csaw Version: 1.43.1 Command: /Library/Frameworks/R.framework/Resources/bin/R CMD build --keep-empty-dirs --no-resave-data csaw StartedAt: 2025-07-15 16:43:06 -0400 (Tue, 15 Jul 2025) EndedAt: 2025-07-15 16:44:42 -0400 (Tue, 15 Jul 2025) EllapsedTime: 96.1 seconds RetCode: 0 Status: OK PackageFile: csaw_1.43.1.tar.gz PackageFileSize: 389.2 KiB