Package: crumblr Version: 1.1.0 Command: /home/biocbuild/R/R/bin/R CMD check --install=check:crumblr.install-out.txt --library=/home/biocbuild/R/R/site-library --no-vignettes --timings crumblr_1.1.0.tar.gz StartedAt: 2025-07-22 05:59:44 -0000 (Tue, 22 Jul 2025) EndedAt: 2025-07-22 06:06:24 -0000 (Tue, 22 Jul 2025) EllapsedTime: 400.3 seconds RetCode: 0 Status: OK CheckDir: crumblr.Rcheck Warnings: 0