Package: crumblr Version: 1.1.0 Command: /home/biocbuild/R/R/bin/R CMD build --keep-empty-dirs --no-resave-data crumblr StartedAt: 2025-07-21 23:01:45 -0000 (Mon, 21 Jul 2025) EndedAt: 2025-07-21 23:04:21 -0000 (Mon, 21 Jul 2025) EllapsedTime: 156.1 seconds RetCode: 0 Status: OK PackageFile: crumblr_1.1.0.tar.gz PackageFileSize: 1.54 MiB