Package: crumblr Version: 1.1.0 Command: chmod a+r crumblr -R && F:\biocbuild\bbs-3.22-bioc\R\bin\R.exe CMD build --keep-empty-dirs --no-resave-data crumblr StartedAt: 2025-07-24 18:27:11 -0400 (Thu, 24 Jul 2025) EndedAt: 2025-07-24 18:29:53 -0400 (Thu, 24 Jul 2025) EllapsedTime: 161.4 seconds RetCode: 1 Status: ERROR PackageFile: None PackageFileSize: NA