Package: crumblr Version: 1.1.0 Command: rm -rf crumblr.buildbin-libdir && mkdir crumblr.buildbin-libdir && /Users/biocbuild/BBS/utils/build-universal.sh crumblr_1.1.0.tar.gz /Library/Frameworks/R.framework/Resources/bin/R crumblr.buildbin-libdir StartedAt: 2025-07-15 00:52:17 -0400 (Tue, 15 Jul 2025) EndedAt: 2025-07-15 00:53:01 -0400 (Tue, 15 Jul 2025) EllapsedTime: 43.9 seconds RetCode: 0 Status: OK PackageFile: crumblr_1.1.0.tgz PackageFileSize: 1.895 MiB