Package: crlmm Version: 1.67.0 Command: /Library/Frameworks/R.framework/Resources/bin/R CMD check --install=check:crlmm.install-out.txt --library=/Library/Frameworks/R.framework/Resources/library --no-vignettes --timings crlmm_1.67.0.tar.gz StartedAt: 2025-07-04 18:42:50 -0400 (Fri, 04 Jul 2025) EndedAt: 2025-07-04 18:47:11 -0400 (Fri, 04 Jul 2025) EllapsedTime: 261.0 seconds RetCode: 0 Status: WARNINGS CheckDir: crlmm.Rcheck Warnings: 1