Package: crisprViz Version: 1.11.0 Command: /home/biocbuild/R/R/bin/R CMD INSTALL crisprViz StartedAt: 2025-07-14 21:08:04 -0000 (Mon, 14 Jul 2025) EndedAt: 2025-07-14 21:08:19 -0000 (Mon, 14 Jul 2025) EllapsedTime: 14.9 seconds RetCode: 1 Status: ERROR