Package: crisprViz Version: 1.11.0 Command: /home/biocbuild/R/R/bin/R CMD check --install=check:crisprViz.install-out.txt --library=/home/biocbuild/R/R/site-library --no-vignettes --timings crisprViz_1.11.0.tar.gz StartedAt: 2025-05-09 06:21:50 -0000 (Fri, 09 May 2025) EndedAt: 2025-05-09 06:31:25 -0000 (Fri, 09 May 2025) EllapsedTime: 574.4 seconds RetCode: 0 Status: OK CheckDir: crisprViz.Rcheck Warnings: 0