Package: crisprViz Version: 1.11.0 Command: /home/biocbuild/R/R/bin/R CMD build --keep-empty-dirs --no-resave-data crisprViz StartedAt: 2025-07-14 22:52:44 -0000 (Mon, 14 Jul 2025) EndedAt: 2025-07-14 22:52:59 -0000 (Mon, 14 Jul 2025) EllapsedTime: 15.0 seconds RetCode: 1 Status: ERROR PackageFile: None PackageFileSize: NA