############################################################################## ############################################################################## ### ### Running command: ### ### /home/biocbuild/R/R/bin/R CMD build --keep-empty-dirs --no-resave-data crisprViz ### ############################################################################## ############################################################################## * checking for file ‘crisprViz/DESCRIPTION’ ... OK * preparing ‘crisprViz’: * checking DESCRIPTION meta-information ... OK * installing the package to build vignettes ----------------------------------- * installing *source* package ‘crisprViz’ ... ** this is package ‘crisprViz’ version ‘1.11.0’ ** using staged installation ** R ** data ** inst ** byte-compile and prepare package for lazy loading Error: package or namespace load failed for ‘crisprDesign’: object ‘checkCompatibleSeqinfo’ is not exported by 'namespace:GenomeInfoDb' Execution halted ERROR: lazy loading failed for package ‘crisprViz’ * removing ‘/home/biocbuild/tmp/RtmpuZlLcL/Rinst3fad3e7e579dc7/crisprViz’ ----------------------------------- ERROR: package installation failed