Package: crisprVerse Version: 1.11.0 Command: /home/biocbuild/R/R/bin/R CMD check --install=check:crisprVerse.install-out.txt --library=/home/biocbuild/R/R/site-library --no-vignettes --timings crisprVerse_1.11.0.tar.gz StartedAt: 2025-05-09 06:21:49 -0000 (Fri, 09 May 2025) EndedAt: 2025-05-09 06:29:03 -0000 (Fri, 09 May 2025) EllapsedTime: 434.3 seconds RetCode: 0 Status: OK CheckDir: crisprVerse.Rcheck Warnings: 0