Package: crisprVerse Version: 1.11.0 Command: /home/biocbuild/bbs-3.22-bioc/R/bin/R CMD build --keep-empty-dirs --no-resave-data --md5 crisprVerse StartedAt: 2025-07-20 16:47:15 -0400 (Sun, 20 Jul 2025) EndedAt: 2025-07-20 16:48:26 -0400 (Sun, 20 Jul 2025) EllapsedTime: 71.0 seconds RetCode: 0 Status: OK PackageFile: crisprVerse_1.11.0.tar.gz PackageFileSize: 296.5 KiB