Package: crisprVerse Version: 1.11.0 Command: /Library/Frameworks/R.framework/Resources/bin/R CMD INSTALL crisprVerse StartedAt: 2025-07-20 15:24:15 -0400 (Sun, 20 Jul 2025) EndedAt: 2025-07-20 15:24:35 -0400 (Sun, 20 Jul 2025) EllapsedTime: 20.5 seconds RetCode: 0 Status: OK