Package: crisprShiny Version: 1.5.0 Command: /home/biocbuild/R/R/bin/R CMD INSTALL crisprShiny StartedAt: 2025-07-14 21:14:58 -0000 (Mon, 14 Jul 2025) EndedAt: 2025-07-14 21:15:14 -0000 (Mon, 14 Jul 2025) EllapsedTime: 15.9 seconds RetCode: 1 Status: ERROR