############################################################################## ############################################################################## ### ### Running command: ### ### /home/biocbuild/R/R/bin/R CMD INSTALL crisprShiny ### ############################################################################## ############################################################################## * installing to library ‘/home/biocbuild/R/R-4.5.0/site-library’ * installing *source* package ‘crisprShiny’ ... ** this is package ‘crisprShiny’ version ‘1.5.0’ ** using staged installation ** R ** data ** inst ** byte-compile and prepare package for lazy loading Error: object ‘checkCompatibleSeqinfo’ is not exported by 'namespace:GenomeInfoDb' Execution halted ERROR: lazy loading failed for package ‘crisprShiny’ * removing ‘/home/biocbuild/R/R-4.5.0/site-library/crisprShiny’ * restoring previous ‘/home/biocbuild/R/R-4.5.0/site-library/crisprShiny’