############################################################################## ############################################################################## ### ### Running command: ### ### /home/biocbuild/R/R/bin/R CMD build --keep-empty-dirs --no-resave-data crisprShiny ### ############################################################################## ############################################################################## * checking for file ‘crisprShiny/DESCRIPTION’ ... OK * preparing ‘crisprShiny’: * checking DESCRIPTION meta-information ... OK * installing the package to build vignettes ----------------------------------- * installing *source* package ‘crisprShiny’ ... ** this is package ‘crisprShiny’ version ‘1.5.0’ ** using staged installation ** R ** data ** inst ** byte-compile and prepare package for lazy loading Error: object ‘checkCompatibleSeqinfo’ is not exported by 'namespace:GenomeInfoDb' Execution halted ERROR: lazy loading failed for package ‘crisprShiny’ * removing ‘/home/biocbuild/tmp/Rtmp2TSNs3/Rinst38b53b3d3dc65a/crisprShiny’ ----------------------------------- ERROR: package installation failed