Package: crisprShiny Version: 1.5.0 Command: F:\biocbuild\bbs-3.22-bioc\R\bin\R.exe CMD check --no-multiarch --install=check:crisprShiny.install-out.txt --library=F:\biocbuild\bbs-3.22-bioc\R\library --no-vignettes --timings crisprShiny_1.5.0.tar.gz StartedAt: 2025-07-22 00:56:08 -0400 (Tue, 22 Jul 2025) EndedAt: 2025-07-22 01:04:30 -0400 (Tue, 22 Jul 2025) EllapsedTime: 502.3 seconds RetCode: 0 Status: OK CheckDir: crisprShiny.Rcheck Warnings: 0