Package: crisprShiny Version: 1.5.0 Command: rm -rf crisprShiny.buildbin-libdir && mkdir crisprShiny.buildbin-libdir && /Users/biocbuild/BBS/utils/build-universal.sh crisprShiny_1.5.0.tar.gz /Library/Frameworks/R.framework/Resources/bin/R crisprShiny.buildbin-libdir StartedAt: 2025-05-09 00:39:24 -0400 (Fri, 09 May 2025) EndedAt: 2025-05-09 00:40:35 -0400 (Fri, 09 May 2025) EllapsedTime: 71.5 seconds RetCode: 0 Status: OK PackageFile: crisprShiny_1.5.0.tgz PackageFileSize: 1.289 MiB