Package: crisprShiny Version: 1.5.0 Command: /Library/Frameworks/R.framework/Resources/bin/R CMD INSTALL crisprShiny StartedAt: 2025-07-01 15:26:05 -0400 (Tue, 01 Jul 2025) EndedAt: 2025-07-01 15:26:06 -0400 (Tue, 01 Jul 2025) EllapsedTime: 1.0 seconds RetCode: 1 Status: ERROR