Package: crisprShiny Version: 1.5.0 Command: /Library/Frameworks/R.framework/Resources/bin/R CMD check --install=check:crisprShiny.install-out.txt --library=/Library/Frameworks/R.framework/Resources/library --no-vignettes --timings crisprShiny_1.5.0.tar.gz StartedAt: 2025-05-08 18:58:37 -0400 (Thu, 08 May 2025) EndedAt: 2025-05-08 19:01:47 -0400 (Thu, 08 May 2025) EllapsedTime: 190.1 seconds RetCode: 0 Status: OK CheckDir: crisprShiny.Rcheck Warnings: 0