############################################################################## ############################################################################## ### ### Running command: ### ### /Library/Frameworks/R.framework/Resources/bin/R CMD build --keep-empty-dirs --no-resave-data crisprShiny ### ############################################################################## ############################################################################## * checking for file ‘crisprShiny/DESCRIPTION’ ... OK * preparing ‘crisprShiny’: * checking DESCRIPTION meta-information ... OK * installing the package to build vignettes ----------------------------------- ERROR: dependencies ‘crisprDesign’, ‘crisprScore’, ‘crisprViz’ are not available for package ‘crisprShiny’ Perhaps try a variation of: install.packages(c('crisprDesign', 'crisprScore', 'crisprViz')) * removing ‘/private/var/folders/r0/l4fjk6cj5xj0j3brt4bplpl40000gt/T/Rtmp5Lqi8X/Rinstb5b4167422af/crisprShiny’ ----------------------------------- ERROR: package installation failed