Package: crisprShiny Version: 1.5.0 Command: rm -rf crisprShiny.buildbin-libdir && mkdir crisprShiny.buildbin-libdir && /Users/biocbuild/BBS/utils/build-universal.sh crisprShiny_1.5.0.tar.gz /Library/Frameworks/R.framework/Resources/bin/R crisprShiny.buildbin-libdir StartedAt: 2025-05-08 23:09:38 -0400 (Thu, 08 May 2025) EndedAt: 2025-05-08 23:10:04 -0400 (Thu, 08 May 2025) EllapsedTime: 25.5 seconds RetCode: 0 Status: OK PackageFile: crisprShiny_1.5.0.tgz PackageFileSize: 1.29 MiB