Package: crisprScore Version: 1.13.1 Command: /home/biocbuild/R/R/bin/R CMD INSTALL crisprScore StartedAt: 2025-10-02 20:51:20 -0000 (Thu, 02 Oct 2025) EndedAt: 2025-10-02 20:51:40 -0000 (Thu, 02 Oct 2025) EllapsedTime: 20.5 seconds RetCode: 0 Status: OK