Package: crisprScore Version: 1.13.1 Command: /home/biocbuild/R/R/bin/R CMD check --install=check:crisprScore.install-out.txt --library=/home/biocbuild/R/R/site-library --no-vignettes --timings crisprScore_1.13.1.tar.gz StartedAt: 2025-10-03 06:06:22 -0000 (Fri, 03 Oct 2025) EndedAt: 2025-10-03 06:09:17 -0000 (Fri, 03 Oct 2025) EllapsedTime: 175.1 seconds RetCode: 0 Status: OK CheckDir: crisprScore.Rcheck Warnings: 0