Package: crisprScore Version: 1.13.1 Command: /home/biocbuild/R/R/bin/R CMD build --keep-empty-dirs --no-resave-data crisprScore StartedAt: 2025-10-02 23:10:07 -0000 (Thu, 02 Oct 2025) EndedAt: 2025-10-02 23:10:58 -0000 (Thu, 02 Oct 2025) EllapsedTime: 51.1 seconds RetCode: 0 Status: OK PackageFile: crisprScore_1.13.1.tar.gz PackageFileSize: 4.572 MiB