Package: crisprScore Version: 1.13.1 Command: /Library/Frameworks/R.framework/Resources/bin/R CMD INSTALL crisprScore StartedAt: 2025-10-05 15:09:28 -0400 (Sun, 05 Oct 2025) EndedAt: 2025-10-05 15:09:35 -0400 (Sun, 05 Oct 2025) EllapsedTime: 6.5 seconds RetCode: 0 Status: OK