Package: crisprScore Version: 1.13.1 Command: /Library/Frameworks/R.framework/Resources/bin/R CMD build --keep-empty-dirs --no-resave-data crisprScore StartedAt: 2025-10-05 16:02:20 -0400 (Sun, 05 Oct 2025) EndedAt: 2025-10-05 16:02:32 -0400 (Sun, 05 Oct 2025) EllapsedTime: 12.1 seconds RetCode: 0 Status: OK PackageFile: crisprScore_1.13.1.tar.gz PackageFileSize: 4.5 MiB