Package: crisprDesign Version: 1.11.0 Command: /home/biocbuild/R/R/bin/R CMD INSTALL crisprDesign StartedAt: 2025-06-30 21:08:34 -0000 (Mon, 30 Jun 2025) EndedAt: 2025-06-30 21:08:53 -0000 (Mon, 30 Jun 2025) EllapsedTime: 18.9 seconds RetCode: 1 Status: ERROR