############################################################################## ############################################################################## ### ### Running command: ### ### /home/biocbuild/R/R/bin/R CMD INSTALL crisprDesign ### ############################################################################## ############################################################################## * installing to library ‘/home/biocbuild/R/R-4.5.0/site-library’ * installing *source* package ‘crisprDesign’ ... ** this is package ‘crisprDesign’ version ‘1.11.0’ ** using staged installation ** R ** data *** moving datasets to lazyload DB ** inst ** byte-compile and prepare package for lazy loading Error: object ‘checkCompatibleSeqinfo’ is not exported by 'namespace:GenomeInfoDb' Execution halted ERROR: lazy loading failed for package ‘crisprDesign’ * removing ‘/home/biocbuild/R/R-4.5.0/site-library/crisprDesign’ * restoring previous ‘/home/biocbuild/R/R-4.5.0/site-library/crisprDesign’