Package: crisprDesign Version: 1.11.0 Command: /home/biocbuild/R/R/bin/R CMD check --install=check:crisprDesign.install-out.txt --library=/home/biocbuild/R/R/site-library --no-vignettes --timings crisprDesign_1.11.0.tar.gz StartedAt: 2025-05-09 06:20:51 -0000 (Fri, 09 May 2025) EndedAt: 2025-05-09 06:21:16 -0000 (Fri, 09 May 2025) EllapsedTime: 25.0 seconds RetCode: 1 Status: ERROR CheckDir: crisprDesign.Rcheck Warnings: NA