Package: crisprDesign Version: 1.11.1 Command: F:\biocbuild\bbs-3.22-bioc\R\bin\R.exe CMD INSTALL crisprDesign StartedAt: 2025-07-22 16:16:52 -0400 (Tue, 22 Jul 2025) EndedAt: 2025-07-22 16:19:26 -0400 (Tue, 22 Jul 2025) EllapsedTime: 154.0 seconds RetCode: 0 Status: OK