Package: crisprDesign Version: 1.11.1 Command: set _R_CHECK_FORCE_SUGGESTS_=0&& F:\biocbuild\bbs-3.22-bioc\R\bin\R.exe CMD check --no-multiarch --install=check:crisprDesign.install-out.txt --library=F:\biocbuild\bbs-3.22-bioc\R\library --no-vignettes --timings crisprDesign_1.11.1.tar.gz StartedAt: 2025-07-23 00:53:47 -0400 (Wed, 23 Jul 2025) EndedAt: 2025-07-23 01:05:27 -0400 (Wed, 23 Jul 2025) EllapsedTime: 700.7 seconds RetCode: 0 Status: OK CheckDir: crisprDesign.Rcheck Warnings: 0