Package: crisprDesign Version: 1.11.1 Command: chmod a+r crisprDesign -R && F:\biocbuild\bbs-3.22-bioc\R\bin\R.exe CMD build --keep-empty-dirs --no-resave-data crisprDesign StartedAt: 2025-07-22 18:15:53 -0400 (Tue, 22 Jul 2025) EndedAt: 2025-07-22 18:19:06 -0400 (Tue, 22 Jul 2025) EllapsedTime: 192.6 seconds RetCode: 0 Status: OK PackageFile: crisprDesign_1.11.1.tar.gz PackageFileSize: 2.609 MiB