Package: crisprBwa Version: 1.13.1 Command: /Library/Frameworks/R.framework/Resources/bin/R CMD INSTALL crisprBwa StartedAt: 2025-10-17 15:25:48 -0400 (Fri, 17 Oct 2025) EndedAt: 2025-10-17 15:26:02 -0400 (Fri, 17 Oct 2025) EllapsedTime: 13.3 seconds RetCode: 0 Status: OK