Package: crisprBowtie Version: 1.13.0 Command: /home/biocbuild/R/R/bin/R CMD check --install=check:crisprBowtie.install-out.txt --library=/home/biocbuild/R/R/site-library --no-vignettes --timings crisprBowtie_1.13.0.tar.gz StartedAt: 2025-07-22 05:58:09 -0000 (Tue, 22 Jul 2025) EndedAt: 2025-07-22 06:02:54 -0000 (Tue, 22 Jul 2025) EllapsedTime: 285.2 seconds RetCode: 0 Status: OK CheckDir: crisprBowtie.Rcheck Warnings: 0