Package: crisprBowtie Version: 1.13.1 Command: F:\biocbuild\bbs-3.22-bioc\R\bin\R.exe CMD INSTALL crisprBowtie StartedAt: 2025-07-24 16:37:36 -0400 (Thu, 24 Jul 2025) EndedAt: 2025-07-24 16:38:17 -0400 (Thu, 24 Jul 2025) EllapsedTime: 40.7 seconds RetCode: 0 Status: OK