Package: crisprBowtie Version: 1.13.0 Command: /Library/Frameworks/R.framework/Resources/bin/R CMD check --install=check:crisprBowtie.install-out.txt --library=/Library/Frameworks/R.framework/Resources/library --no-vignettes --timings crisprBowtie_1.13.0.tar.gz StartedAt: 2025-07-21 19:58:27 -0400 (Mon, 21 Jul 2025) EndedAt: 2025-07-21 20:02:55 -0400 (Mon, 21 Jul 2025) EllapsedTime: 267.4 seconds RetCode: 0 Status: OK CheckDir: crisprBowtie.Rcheck Warnings: 0