Package: crisprBowtie Version: 1.13.0 Command: /Library/Frameworks/R.framework/Resources/bin/R CMD INSTALL crisprBowtie StartedAt: 2025-07-22 15:17:00 -0400 (Tue, 22 Jul 2025) EndedAt: 2025-07-22 15:17:13 -0400 (Tue, 22 Jul 2025) EllapsedTime: 13.0 seconds RetCode: 0 Status: OK