Package: crisprBowtie Version: 1.13.0 Command: rm -rf crisprBowtie.buildbin-libdir && mkdir crisprBowtie.buildbin-libdir && /Users/biocbuild/BBS/utils/build-universal.sh crisprBowtie_1.13.0.tar.gz /Library/Frameworks/R.framework/Resources/bin/R crisprBowtie.buildbin-libdir StartedAt: 2025-07-22 22:20:43 -0400 (Tue, 22 Jul 2025) EndedAt: 2025-07-22 22:20:57 -0400 (Tue, 22 Jul 2025) EllapsedTime: 14.3 seconds RetCode: 0 Status: OK PackageFile: crisprBowtie_1.13.0.tgz PackageFileSize: 335.5 KiB