Package: cqn Version: 1.55.0 Command: /home/biocbuild/R/R/bin/R CMD INSTALL cqn StartedAt: 2025-07-21 20:24:28 -0000 (Mon, 21 Jul 2025) EndedAt: 2025-07-21 20:24:38 -0000 (Mon, 21 Jul 2025) EllapsedTime: 9.3 seconds RetCode: 0 Status: OK