Package: cqn Version: 1.55.0 Command: /home/biocbuild/R/R/bin/R CMD build --keep-empty-dirs --no-resave-data cqn StartedAt: 2025-07-21 22:59:59 -0000 (Mon, 21 Jul 2025) EndedAt: 2025-07-21 23:00:19 -0000 (Mon, 21 Jul 2025) EllapsedTime: 20.0 seconds RetCode: 0 Status: OK PackageFile: cqn_1.55.0.tar.gz PackageFileSize: 795 KiB