Package: cqn Version: 1.55.0 Command: F:\biocbuild\bbs-3.22-bioc\R\bin\R.exe CMD check --no-multiarch --install=check:cqn.install-out.txt --library=F:\biocbuild\bbs-3.22-bioc\R\library --no-vignettes --timings cqn_1.55.0.tar.gz StartedAt: 2025-07-12 00:45:43 -0400 (Sat, 12 Jul 2025) EndedAt: 2025-07-12 00:46:48 -0400 (Sat, 12 Jul 2025) EllapsedTime: 64.9 seconds RetCode: 0 Status: OK CheckDir: cqn.Rcheck Warnings: 0