Package: cqn Version: 1.55.0 Command: rm -rf cqn.buildbin-libdir && mkdir cqn.buildbin-libdir && F:\biocbuild\bbs-3.22-bioc\R\bin\R.exe CMD INSTALL --build --library=cqn.buildbin-libdir cqn_1.55.0.tar.gz StartedAt: 2025-07-02 08:38:16 -0400 (Wed, 02 Jul 2025) EndedAt: 2025-07-02 08:38:25 -0400 (Wed, 02 Jul 2025) EllapsedTime: 9.2 seconds RetCode: 0 Status: OK PackageFile: cqn_1.55.0.zip PackageFileSize: 739.9 KiB