Package: cqn Version: 1.55.0 Command: /home/biocbuild/bbs-3.22-bioc/R/bin/R CMD INSTALL cqn StartedAt: 2025-07-01 15:04:53 -0400 (Tue, 01 Jul 2025) EndedAt: 2025-07-01 15:04:59 -0400 (Tue, 01 Jul 2025) EllapsedTime: 6.1 seconds RetCode: 0 Status: OK