Package: cqn Version: 1.55.0 Command: /home/biocbuild/bbs-3.22-bioc/R/bin/R CMD check --install=check:cqn.install-out.txt --library=/home/biocbuild/bbs-3.22-bioc/R/site-library --timings cqn_1.55.0.tar.gz StartedAt: 2025-07-01 21:13:52 -0400 (Tue, 01 Jul 2025) EndedAt: 2025-07-01 21:14:47 -0400 (Tue, 01 Jul 2025) EllapsedTime: 55.0 seconds RetCode: 0 Status: OK CheckDir: cqn.Rcheck Warnings: 0