Package: cqn Version: 1.55.0 Command: /home/biocbuild/bbs-3.22-bioc/R/bin/R CMD build --keep-empty-dirs --no-resave-data --md5 cqn StartedAt: 2025-07-01 16:44:56 -0400 (Tue, 01 Jul 2025) EndedAt: 2025-07-01 16:45:13 -0400 (Tue, 01 Jul 2025) EllapsedTime: 17.0 seconds RetCode: 0 Status: OK PackageFile: cqn_1.55.0.tar.gz PackageFileSize: 980.1 KiB