Package: cqn Version: 1.55.0 Command: /Library/Frameworks/R.framework/Resources/bin/R CMD build --keep-empty-dirs --no-resave-data cqn StartedAt: 2025-07-01 16:37:27 -0400 (Tue, 01 Jul 2025) EndedAt: 2025-07-01 16:37:48 -0400 (Tue, 01 Jul 2025) EllapsedTime: 21.6 seconds RetCode: 0 Status: OK PackageFile: cqn_1.55.0.tar.gz PackageFileSize: 1.037 MiB