Package: cpvSNP Version: 1.41.0 Command: /home/biocbuild/R/R/bin/R CMD INSTALL cpvSNP StartedAt: 2025-07-24 21:51:12 -0000 (Thu, 24 Jul 2025) EndedAt: 2025-07-24 21:52:03 -0000 (Thu, 24 Jul 2025) EllapsedTime: 51.9 seconds RetCode: 0 Status: OK